BEGIN:VCALENDAR
VERSION:2.0
PRODID:-//ChamberMaster//Event Calendar 2.0//EN
METHOD:PUBLISH
X-PUBLISHED-TTL:P3D
REFRESH-INTERVAL:P3D
CALSCALE:GREGORIAN
BEGIN:VEVENT
DTSTART:20230422T140000Z
DTEND:20230422T220000Z
X-MICROSOFT-CDO-ALLDAYEVENT:FALSE
SUMMARY:Spring Vendor Event
DESCRIPTION:
X-ALT-DESC;FMTTYPE=text/html:
LOCATION:Long Island Rail Road Parking Lot 2 Between Bellmore and Bedford Avenues
UID:e.2921.2772
SEQUENCE:3
DTSTAMP:20260421T013122Z
URL:http://bellmoreny.chambermaster.com/events/details/spring-vendor-event-2772
END:VEVENT

END:VCALENDAR
